View In:
ArcGIS JavaScript
ArcGIS Online Map Viewer
ArcGIS Earth
Service Description: MAPSRVIMG/USGS_IMG_Test
Name: MAPSRVIMG/USGS_IMG_Test
Description:
Single Fused Map Cache: false
Extent:
XMin: 479994.0000120044
YMin: 4389993.999979113
XMax: 490006.0000120044
YMax: 4400005.999979113
Spatial Reference: 26913
(26913)
Initial Extent:
XMin: 479994.0000120044
YMin: 4389993.999979113
XMax: 490006.0000120044
YMax: 4400005.999979113
Spatial Reference: 26913
(26913)
Full Extent:
XMin: 479994.0000120044
YMin: 4389993.999979113
XMax: 490006.0000120044
YMax: 4400005.999979113
Spatial Reference: 26913
(26913)
Pixel Size X: 1.0
Pixel Size Y: 1.0
Band Count: 1
Pixel Type: F32
RasterFunction Infos: {"rasterFunctionInfos": [{
"name": "None",
"description": "",
"help": ""
}]}
Mensuration Capabilities: Basic
Inspection Capabilities:
Has Histograms: true
Has Colormap: false
Has Multi Dimensions : false
Rendering Rule:
Min Scale: 0
Max Scale: 0
Copyright Text:
Service Data Type: esriImageServiceDataTypeGeneric
Min Values: 1658.6823730469
Max Values: 2403.5900878906
Mean Values: 1854.0390565786
Standard Deviation Values: 133.60408364483
Object ID Field:
Fields:
None
Default Mosaic Method: Center
Allowed Mosaic Methods:
SortField:
SortValue: null
Mosaic Operator: First
Default Compression Quality: 75
Default Resampling Method: Bilinear
Max Record Count: null
Max Image Height: 4100
Max Image Width: 15000
Max Download Image Count: null
Max Mosaic Image Count: null
Allow Raster Function: true
Allow Copy: true
Allow Analysis: true
Allow Compute TiePoints: false
Supports Statistics: false
Supports Advanced Queries: false
Use StandardizedQueries: true
Raster Type Infos:
Name: Raster Dataset
Description: Supports all ArcGIS Raster Datasets
Help:
Has Raster Attribute Table: false
Edit Fields Info: null
Ownership Based AccessControl For Rasters: null
Child Resources:
Info
Histograms
Statistics
Key Properties
Legend
Raster Function Infos
Supported Operations:
Export Image
Identify
Measure
Compute Histograms
Compute Statistics Histograms
Get Samples
Compute Class Statistics
Query Boundary
Compute Pixel Location
Compute Angles
Validate
Project